BEGIN:VCALENDAR
VERSION:2.0
PRODID:-//kyohatsu//JP
CALSCALE:GREGORIAN
BEGIN:VEVENT
DTSTART;VALUE=DATE:20260526
SUMMARY:虎くんは今日もお嬢様に試される（2）
DESCRIPTION:菊乃 杏 小学館
UID:9784098733828@kyohatsu.lb-product.com
END:VEVENT
END:VCALENDAR
