BEGIN:VCALENDAR
VERSION:2.0
PRODID:-//kyohatsu//JP
CALSCALE:GREGORIAN
BEGIN:VEVENT
DTSTART;VALUE=DATE:20260425
SUMMARY:彼女のカロート
DESCRIPTION:荻世いをら フィルムアート社
UID:9784845925292@kyohatsu.lb-product.com
END:VEVENT
END:VCALENDAR
