BEGIN:VCALENDAR
VERSION:2.0
PRODID:-//kyohatsu//JP
CALSCALE:GREGORIAN
BEGIN:VEVENT
DTSTART;VALUE=DATE:20260511
SUMMARY:たった一人の読者を生きる
DESCRIPTION:荒井 裕樹 柏書房
UID:9784760156597@kyohatsu.lb-product.com
END:VEVENT
END:VCALENDAR
