BEGIN:VCALENDAR
VERSION:2.0
PRODID:-//kyohatsu//JP
CALSCALE:GREGORIAN
BEGIN:VEVENT
DTSTART;VALUE=DATE:20260520
SUMMARY:「荒地」の構造と実像
DESCRIPTION:草野千里 パレード
UID:9784434378317@kyohatsu.lb-product.com
END:VEVENT
END:VCALENDAR
