BEGIN:VCALENDAR
VERSION:2.0
PRODID:-//kyohatsu//JP
CALSCALE:GREGORIAN
BEGIN:VEVENT
DTSTART;VALUE=DATE:20260624
SUMMARY:【楽天ブックス限定先着特典+早期予約特典】Cinema(L判ブロマイド+本人直筆サイン&メッセージ入り限定フォトカード(240×240mm))
DESCRIPTION:茉ひる 
UID:2100014957708@kyohatsu.lb-product.com
END:VEVENT
END:VCALENDAR
