BEGIN:VCALENDAR
VERSION:2.0
PRODID:-//kyohatsu//JP
CALSCALE:GREGORIAN
BEGIN:VEVENT
DTSTART;VALUE=DATE:20260622
SUMMARY:新装版　デルフィニア戦記
DESCRIPTION:茅田砂胡 中央公論新社
UID:9784122078000@kyohatsu.lb-product.com
END:VEVENT
END:VCALENDAR
