BEGIN:VCALENDAR
VERSION:2.0
PRODID:-//kyohatsu//JP
CALSCALE:GREGORIAN
BEGIN:VEVENT
DTSTART;VALUE=DATE:20260528
SUMMARY:ハッピーハイポキシアー灰色の子ー（2）
DESCRIPTION:茂木清香 双葉社
UID:9784575862294@kyohatsu.lb-product.com
END:VEVENT
END:VCALENDAR
