BEGIN:VCALENDAR
VERSION:2.0
PRODID:-//kyohatsu//JP
CALSCALE:GREGORIAN
BEGIN:VEVENT
DTSTART;VALUE=DATE:20260507
SUMMARY:かっかどるどるどぅ
DESCRIPTION:若竹 千佐子 河出書房新社
UID:9784309422657@kyohatsu.lb-product.com
END:VEVENT
END:VCALENDAR
