BEGIN:VCALENDAR
VERSION:2.0
PRODID:-//kyohatsu//JP
CALSCALE:GREGORIAN
BEGIN:VEVENT
DTSTART;VALUE=DATE:20260527
SUMMARY:幸せカナコの殺し屋生活　9
DESCRIPTION:若林 稔弥 星海社
UID:9784065434000@kyohatsu.lb-product.com
END:VEVENT
END:VCALENDAR
