BEGIN:VCALENDAR
VERSION:2.0
PRODID:-//kyohatsu//JP
CALSCALE:GREGORIAN
BEGIN:VEVENT
DTSTART;VALUE=DATE:20260430
SUMMARY:悪い山へとつづく怪
DESCRIPTION:若本衣織 竹書房
UID:9784801949171@kyohatsu.lb-product.com
END:VEVENT
END:VCALENDAR
