BEGIN:VCALENDAR
VERSION:2.0
PRODID:-//kyohatsu//JP
CALSCALE:GREGORIAN
BEGIN:VEVENT
DTSTART;VALUE=DATE:20260529
SUMMARY:ヨシダ檸檬ドロップス（6）
DESCRIPTION:若木 民喜 小学館
UID:9784098640089@kyohatsu.lb-product.com
END:VEVENT
END:VCALENDAR
