BEGIN:VCALENDAR
VERSION:2.0
PRODID:-//kyohatsu//JP
CALSCALE:GREGORIAN
BEGIN:VEVENT
DTSTART;VALUE=DATE:20260626
SUMMARY:らぶぶいっ！1
DESCRIPTION:芽瑠藻 KADOKAWA
UID:9784041174791@kyohatsu.lb-product.com
END:VEVENT
END:VCALENDAR
