BEGIN:VCALENDAR
VERSION:2.0
PRODID:-//kyohatsu//JP
CALSCALE:GREGORIAN
BEGIN:VEVENT
DTSTART;VALUE=DATE:20260715
SUMMARY:MILGRAM　第三審シングル　ミコト『レクイエム』
DESCRIPTION:花江夏樹（ミコト） 
UID:4573643273002@kyohatsu.lb-product.com
END:VEVENT
END:VCALENDAR
