BEGIN:VCALENDAR
VERSION:2.0
PRODID:-//kyohatsu//JP
CALSCALE:GREGORIAN
BEGIN:VEVENT
DTSTART;VALUE=DATE:20260510
SUMMARY:小さなコックさんの異世界レシピ〜料理魔法なんてあったんだぁ、と思ったら万能スキルでした〜
DESCRIPTION:花明かり TOブックス
UID:9784867949948@kyohatsu.lb-product.com
END:VEVENT
END:VCALENDAR
