BEGIN:VCALENDAR
VERSION:2.0
PRODID:-//kyohatsu//JP
CALSCALE:GREGORIAN
BEGIN:VEVENT
DTSTART;VALUE=DATE:20260515
SUMMARY:追放された職業【男子高校生】ですが、聖女スキルを隠して友だちと旅します。 3
DESCRIPTION:花川天谷 TOブックス
UID:9784868540045@kyohatsu.lb-product.com
END:VEVENT
END:VCALENDAR
