BEGIN:VCALENDAR
VERSION:2.0
PRODID:-//kyohatsu//JP
CALSCALE:GREGORIAN
BEGIN:VEVENT
DTSTART;VALUE=DATE:20260528
SUMMARY:食べると死ぬ花
DESCRIPTION:芦花公園 新潮社
UID:9784101068411@kyohatsu.lb-product.com
END:VEVENT
END:VCALENDAR
