BEGIN:VCALENDAR
VERSION:2.0
PRODID:-//kyohatsu//JP
CALSCALE:GREGORIAN
BEGIN:VEVENT
DTSTART;VALUE=DATE:20260522
SUMMARY:あなたが正しくいられたとき
DESCRIPTION:芦沢 央 文藝春秋
UID:9784163921013@kyohatsu.lb-product.com
END:VEVENT
END:VCALENDAR
