BEGIN:VCALENDAR
VERSION:2.0
PRODID:-//kyohatsu//JP
CALSCALE:GREGORIAN
BEGIN:VEVENT
DTSTART;VALUE=DATE:20260529
SUMMARY:俺が偶然ちいさいおっさんになる確率（仮）
DESCRIPTION:芥川なお すばる舎
UID:9784799114117@kyohatsu.lb-product.com
END:VEVENT
END:VCALENDAR
