BEGIN:VCALENDAR
VERSION:2.0
PRODID:-//kyohatsu//JP
CALSCALE:GREGORIAN
BEGIN:VEVENT
DTSTART;VALUE=DATE:20260601
SUMMARY:キジトラのテコ　パパさんと過ごした14年の奇跡
DESCRIPTION:船ヶ山哲 ベストセラーズ
UID:9784584140109@kyohatsu.lb-product.com
END:VEVENT
END:VCALENDAR
