BEGIN:VCALENDAR
VERSION:2.0
PRODID:-//kyohatsu//JP
CALSCALE:GREGORIAN
BEGIN:VEVENT
DTSTART;VALUE=DATE:20260624
SUMMARY:極ベスト50
DESCRIPTION:舟木一夫 日本コロムビア(株)
UID:4549767372846@kyohatsu.lb-product.com
END:VEVENT
END:VCALENDAR
