BEGIN:VCALENDAR
VERSION:2.0
PRODID:-//kyohatsu//JP
CALSCALE:GREGORIAN
BEGIN:VEVENT
DTSTART;VALUE=DATE:20260615
SUMMARY:【楽天ブックス限定先着特典】舞台『魔法使いの約束』きみに花を、空に魔法を　前編【Blu-ray】(フォトカード＆缶バッジ4種セット(南の国))
DESCRIPTION:舞台『魔法使いの約束』 ネルケプランニング
UID:2100014608983@kyohatsu.lb-product.com
END:VEVENT
BEGIN:VEVENT
DTSTART;VALUE=DATE:20260615
SUMMARY:【楽天ブックス限定先着特典】舞台『魔法使いの約束』きみに花を、空に魔法を　前編【Blu-ray】(フォトカード＆缶バッジ4種セット(西の国))
DESCRIPTION:舞台『魔法使いの約束』 ネルケプランニング
UID:2100014608976@kyohatsu.lb-product.com
END:VEVENT
BEGIN:VEVENT
DTSTART;VALUE=DATE:20260615
SUMMARY:【楽天ブックス限定先着特典+楽天ブックス限定グッズ】舞台『魔法使いの約束』きみに花を、空に魔法を　前編【Blu-ray】(フォトカード＆缶バッジ4種セット(南の国)+A5キャラファイングラフ)
DESCRIPTION:舞台『魔法使いの約束』 ネルケプランニング
UID:2100014609010@kyohatsu.lb-product.com
END:VEVENT
BEGIN:VEVENT
DTSTART;VALUE=DATE:20260615
SUMMARY:【楽天ブックス限定先着特典+楽天ブックス限定グッズ】舞台『魔法使いの約束』きみに花を、空に魔法を　前編【Blu-ray】(フォトカード＆缶バッジ4種セット(中央の国)+A5キャラファイングラフ)
DESCRIPTION:舞台『魔法使いの約束』 ネルケプランニング
UID:2100014608990@kyohatsu.lb-product.com
END:VEVENT
BEGIN:VEVENT
DTSTART;VALUE=DATE:20260615
SUMMARY:舞台『魔法使いの約束』きみに花を、空に魔法を　前編【Blu-ray】
DESCRIPTION:舞台『魔法使いの約束』 ネルケプランニング
UID:4573687636474@kyohatsu.lb-product.com
END:VEVENT
BEGIN:VEVENT
DTSTART;VALUE=DATE:20260615
SUMMARY:【楽天ブックス限定先着特典+楽天ブックス限定グッズ】舞台『魔法使いの約束』きみに花を、空に魔法を　前編【Blu-ray】(フォトカード＆缶バッジ4種セット(西の国)+A5キャラファイングラフ)
DESCRIPTION:舞台『魔法使いの約束』 ネルケプランニング
UID:2100014609003@kyohatsu.lb-product.com
END:VEVENT
BEGIN:VEVENT
DTSTART;VALUE=DATE:20260615
SUMMARY:【楽天ブックス限定先着特典】舞台『魔法使いの約束』きみに花を、空に魔法を　前編【Blu-ray】(フォトカード＆缶バッジ4種セット(中央の国))
DESCRIPTION:舞台『魔法使いの約束』 ネルケプランニング
UID:2100014608969@kyohatsu.lb-product.com
END:VEVENT
END:VCALENDAR
