BEGIN:VCALENDAR
VERSION:2.0
PRODID:-//kyohatsu//JP
CALSCALE:GREGORIAN
BEGIN:VEVENT
DTSTART;VALUE=DATE:20260610
SUMMARY:リンチ（戯曲）--三部作
DESCRIPTION:羽鳥ヨダ嘉郎 いぬのせなか座
UID:9784911308097@kyohatsu.lb-product.com
END:VEVENT
END:VCALENDAR
