BEGIN:VCALENDAR
VERSION:2.0
PRODID:-//kyohatsu//JP
CALSCALE:GREGORIAN
BEGIN:VEVENT
DTSTART;VALUE=DATE:20260622
SUMMARY:御成敗式目の殺人
DESCRIPTION:羽生飛鳥 中央公論新社
UID:9784120060311@kyohatsu.lb-product.com
END:VEVENT
END:VCALENDAR
