BEGIN:VCALENDAR
VERSION:2.0
PRODID:-//kyohatsu//JP
CALSCALE:GREGORIAN
BEGIN:VEVENT
DTSTART;VALUE=DATE:20260624
SUMMARY:うたの宝石箱(仮)
DESCRIPTION:美空ひばり 日本コロムビア(株)
UID:4549767372822@kyohatsu.lb-product.com
END:VEVENT
END:VCALENDAR
