BEGIN:VCALENDAR
VERSION:2.0
PRODID:-//kyohatsu//JP
CALSCALE:GREGORIAN
BEGIN:VEVENT
DTSTART;VALUE=DATE:20260610
SUMMARY:花神と蛮王
DESCRIPTION:緒川 千世 リブレ
UID:9784799778289@kyohatsu.lb-product.com
END:VEVENT
END:VCALENDAR
