BEGIN:VCALENDAR
VERSION:2.0
PRODID:-//kyohatsu//JP
CALSCALE:GREGORIAN
BEGIN:VEVENT
DTSTART;VALUE=DATE:20260604
SUMMARY:身の程知らずのシンデレラ　（2）
DESCRIPTION:緒之 KADOKAWA
UID:9784041174418@kyohatsu.lb-product.com
END:VEVENT
END:VCALENDAR
