BEGIN:VCALENDAR
VERSION:2.0
PRODID:-//kyohatsu//JP
CALSCALE:GREGORIAN
BEGIN:VEVENT
DTSTART;VALUE=DATE:20260501
SUMMARY:【TOジュニア文庫】リトル・オニキスの初恋2
DESCRIPTION:緑名紺 TOブックス
UID:9784867949870@kyohatsu.lb-product.com
END:VEVENT
END:VCALENDAR
