BEGIN:VCALENDAR
VERSION:2.0
PRODID:-//kyohatsu//JP
CALSCALE:GREGORIAN
BEGIN:VEVENT
DTSTART;VALUE=DATE:20260612
SUMMARY:心の闇
DESCRIPTION:綾辻 行人 講談社
UID:9784065439326@kyohatsu.lb-product.com
END:VEVENT
END:VCALENDAR
