BEGIN:VCALENDAR
VERSION:2.0
PRODID:-//kyohatsu//JP
CALSCALE:GREGORIAN
BEGIN:VEVENT
DTSTART;VALUE=DATE:20260625
SUMMARY:龍の皇子は封気の姫にくちづける 〜龍華国契約婚秘録〜（1）
DESCRIPTION:綾束　乙 KADOKAWA
UID:9784049523324@kyohatsu.lb-product.com
END:VEVENT
END:VCALENDAR
