BEGIN:VCALENDAR
VERSION:2.0
PRODID:-//kyohatsu//JP
CALSCALE:GREGORIAN
BEGIN:VEVENT
DTSTART;VALUE=DATE:20260604
SUMMARY:恋するふたりは牙を隠す〜ギャップがありすぎるカップルの話〜　1
DESCRIPTION:紫良河　みあび KADOKAWA
UID:9784041174296@kyohatsu.lb-product.com
END:VEVENT
END:VCALENDAR
