BEGIN:VCALENDAR
VERSION:2.0
PRODID:-//kyohatsu//JP
CALSCALE:GREGORIAN
BEGIN:VEVENT
DTSTART;VALUE=DATE:20260612
SUMMARY:ごっこ
DESCRIPTION:紗倉 まな 講談社
UID:9784065440773@kyohatsu.lb-product.com
END:VEVENT
END:VCALENDAR
