BEGIN:VCALENDAR
VERSION:2.0
PRODID:-//kyohatsu//JP
CALSCALE:GREGORIAN
BEGIN:VEVENT
DTSTART;VALUE=DATE:20260622
SUMMARY:蔵書一代
DESCRIPTION:紀田順一郎 中央公論新社
UID:9784122078017@kyohatsu.lb-product.com
END:VEVENT
END:VCALENDAR
