BEGIN:VCALENDAR
VERSION:2.0
PRODID:-//kyohatsu//JP
CALSCALE:GREGORIAN
BEGIN:VEVENT
DTSTART;VALUE=DATE:20260619
SUMMARY:のけもの恋がたり〜稀血の娘とあやかし狐〜（3）
DESCRIPTION:糸川 一成 小学館
UID:9784098546381@kyohatsu.lb-product.com
END:VEVENT
END:VCALENDAR
