BEGIN:VCALENDAR
VERSION:2.0
PRODID:-//kyohatsu//JP
CALSCALE:GREGORIAN
BEGIN:VEVENT
DTSTART;VALUE=DATE:20260529
SUMMARY:都市伝説が殺ってくる 5
DESCRIPTION:米田旦人 Cygames
UID:9784911567708@kyohatsu.lb-product.com
END:VEVENT
END:VCALENDAR
