BEGIN:VCALENDAR
VERSION:2.0
PRODID:-//kyohatsu//JP
CALSCALE:GREGORIAN
BEGIN:VEVENT
DTSTART;VALUE=DATE:20260601
SUMMARY:妹に婚約者を取られてこのたび醜悪公と押しつけられ婚する運びとなりました@COMIC 第2巻
DESCRIPTION:篠宮しぐ TOブックス
UID:9784868540113@kyohatsu.lb-product.com
END:VEVENT
END:VCALENDAR
