BEGIN:VCALENDAR
VERSION:2.0
PRODID:-//kyohatsu//JP
CALSCALE:GREGORIAN
BEGIN:VEVENT
DTSTART;VALUE=DATE:20260527
SUMMARY:ちゃんと食ってるか!? 笠原将弘のご自愛めし 健康になれる（かもしれない）春夏秋冬の問答レシピ
DESCRIPTION:笠原 将弘 文藝春秋
UID:9784163921037@kyohatsu.lb-product.com
END:VEVENT
END:VCALENDAR
