BEGIN:VCALENDAR
VERSION:2.0
PRODID:-//kyohatsu//JP
CALSCALE:GREGORIAN
BEGIN:VEVENT
DTSTART;VALUE=DATE:20260513
SUMMARY:頭を木魚に
DESCRIPTION:笑い飯 哲夫 主婦の友社
UID:9784074613106@kyohatsu.lb-product.com
END:VEVENT
END:VCALENDAR
