BEGIN:VCALENDAR
VERSION:2.0
PRODID:-//kyohatsu//JP
CALSCALE:GREGORIAN
BEGIN:VEVENT
DTSTART;VALUE=DATE:20260508
SUMMARY:その霊、幻覚です。 視える臨床心理士・泉宮一華の噓7
DESCRIPTION:竹村 優希 文藝春秋
UID:9784167925109@kyohatsu.lb-product.com
END:VEVENT
END:VCALENDAR
