BEGIN:VCALENDAR
VERSION:2.0
PRODID:-//kyohatsu//JP
CALSCALE:GREGORIAN
BEGIN:VEVENT
DTSTART;VALUE=DATE:20260430
SUMMARY:惑星フェネグリックのカレー
DESCRIPTION:竹中直己 鴎来堂
UID:9784991335914@kyohatsu.lb-product.com
END:VEVENT
END:VCALENDAR
