BEGIN:VCALENDAR
VERSION:2.0
PRODID:-//kyohatsu//JP
CALSCALE:GREGORIAN
BEGIN:VEVENT
DTSTART;VALUE=DATE:20260501
SUMMARY:商いの民（2）
DESCRIPTION:立平誠 文芸社
UID:9784286275741@kyohatsu.lb-product.com
END:VEVENT
END:VCALENDAR
