BEGIN:VCALENDAR
VERSION:2.0
PRODID:-//kyohatsu//JP
CALSCALE:GREGORIAN
BEGIN:VEVENT
DTSTART;VALUE=DATE:20260610
SUMMARY:ルミネッセンス
DESCRIPTION:窪美澄 光文社
UID:9784334110338@kyohatsu.lb-product.com
END:VEVENT
END:VCALENDAR
