BEGIN:VCALENDAR
VERSION:2.0
PRODID:-//kyohatsu//JP
CALSCALE:GREGORIAN
BEGIN:VEVENT
DTSTART;VALUE=DATE:20260527
SUMMARY:2000億円超を運用した伝説のファンドマネージャーが明かす「超」成長株の見つけ方
DESCRIPTION:窪田真之 幻冬舎
UID:9784344988040@kyohatsu.lb-product.com
END:VEVENT
END:VCALENDAR
