BEGIN:VCALENDAR
VERSION:2.0
PRODID:-//kyohatsu//JP
CALSCALE:GREGORIAN
BEGIN:VEVENT
DTSTART;VALUE=DATE:20260610
SUMMARY:救いの神
DESCRIPTION:稲葉稔 光文社
UID:9784334110413@kyohatsu.lb-product.com
END:VEVENT
END:VCALENDAR
