BEGIN:VCALENDAR
VERSION:2.0
PRODID:-//kyohatsu//JP
CALSCALE:GREGORIAN
BEGIN:VEVENT
DTSTART;VALUE=DATE:20260520
SUMMARY:大江戸フューチャーズ
DESCRIPTION:稲葉 大樹 講談社
UID:9784065435076@kyohatsu.lb-product.com
END:VEVENT
END:VCALENDAR
