BEGIN:VCALENDAR
VERSION:2.0
PRODID:-//kyohatsu//JP
CALSCALE:GREGORIAN
BEGIN:VEVENT
DTSTART;VALUE=DATE:20260525
SUMMARY:沖縄 悲遇の作戦　新装解説版
DESCRIPTION:稲垣武 潮書房光人新社
UID:9784769834441@kyohatsu.lb-product.com
END:VEVENT
END:VCALENDAR
