BEGIN:VCALENDAR
VERSION:2.0
PRODID:-//kyohatsu//JP
CALSCALE:GREGORIAN
BEGIN:VEVENT
DTSTART;VALUE=DATE:20260522
SUMMARY:セカンドハーフガールズ（1）
DESCRIPTION:稚野 鳥子 講談社
UID:9784065416822@kyohatsu.lb-product.com
END:VEVENT
END:VCALENDAR
