BEGIN:VCALENDAR
VERSION:2.0
PRODID:-//kyohatsu//JP
CALSCALE:GREGORIAN
BEGIN:VEVENT
DTSTART;VALUE=DATE:20260708
SUMMARY:【楽天ブックス限定先着特典】タイトル未定 (初回生産限定盤)(アクリルキーホルダー)
DESCRIPTION:秘めごと MoooD Records
UID:4540774610983@kyohatsu.lb-product.com
END:VEVENT
END:VCALENDAR
