BEGIN:VCALENDAR
VERSION:2.0
PRODID:-//kyohatsu//JP
CALSCALE:GREGORIAN
BEGIN:VEVENT
DTSTART;VALUE=DATE:20260508
SUMMARY:最期の贈りもの ナースの卯月に視えるもの
DESCRIPTION:秋谷 りんこ 文藝春秋
UID:9784167925062@kyohatsu.lb-product.com
END:VEVENT
END:VCALENDAR
