BEGIN:VCALENDAR
VERSION:2.0
PRODID:-//kyohatsu//JP
CALSCALE:GREGORIAN
BEGIN:VEVENT
DTSTART;VALUE=DATE:20260430
SUMMARY:森島章子は人を撮らない
DESCRIPTION:秋永 真琴 東京創元社
UID:9784488029463@kyohatsu.lb-product.com
END:VEVENT
END:VCALENDAR
