BEGIN:VCALENDAR
VERSION:2.0
PRODID:-//kyohatsu//JP
CALSCALE:GREGORIAN
BEGIN:VEVENT
DTSTART;VALUE=DATE:20260715
SUMMARY:THE IDOLM@STER MILLION LIVE! SPECIAL SOLO RECORDS 秋月律子
DESCRIPTION:秋月律子(CV.若林直美) (株)バンダイナムコミュージックライブ
UID:4540774252329@kyohatsu.lb-product.com
END:VEVENT
END:VCALENDAR
